BEGIN:VCALENDAR
VERSION:2.0
PRODID:-//wp-events-plugin.com//7.2.3.1//EN
TZID:America/Chicago
X-WR-TIMEZONE:America/Chicago
BEGIN:VEVENT
UID:7@suitesbymetro.com
DTSTART;TZID=America/Chicago:20251019T152500
DTEND;TZID=America/Chicago:20251019T152500
DTSTAMP:20250819T105401Z
URL:https://www.suitesbymetro.com/events/dallas-cowboys-vs-washington-comm
 anders/
SUMMARY:Dallas Cowboys Vs. Washington Commanders
DESCRIPTION:
CATEGORIES:Dallas Cowboys Suites
END:VEVENT
BEGIN:VTIMEZONE
TZID:America/Chicago
X-LIC-LOCATION:America/Chicago
BEGIN:DAYLIGHT
DTSTART:20250309T030000
TZOFFSETFROM:-0600
TZOFFSETTO:-0500
TZNAME:CDT
END:DAYLIGHT
END:VTIMEZONE
END:VCALENDAR